{"text_format":"1","workbook":"xlsx","n_sheets":3,"sheets":["Sabit","Vakitler","İmsakiye"],"not_rendered":{"charts":2,"images":5,"macros":1,"external_links":0,"defined_names":0,"comments":0,"pivot_tables":0},"unopened":[],"bounds":{"document_bytes":16777216,"sheet_cells":100000,"rows_first":2000,"rows_last":500,"rows_between":2000,"halvings":0,"cell_chars":16384,"cell_head_chars":4096},"cells_cut":0,"cells_raw":0,"read":"whole","date_system":"1900"}

{"sheet":"Sabit","index":0,"n_rows":14,"n_cols":7,"rows_kept":14,"cut":false,"hidden":true,"merged":[]}
["İLLER","Bayram Namazı","Seçimler",null,null,"Bayram Günü","Kadir Gecesi"]
["KİLİS","06:21:00","KİLİS","Şehir","FİTRE BEDELİ: 70 TL","21 NİSAN 2023 CUMA","17 NİSAN 2023 PAZARTESİ"]
[null,null,{"$f":"MATCH(C2,Vakitler!A:A,0)","v":31},"Satır"]
[null,null,{"$f":"VLOOKUP(C2,A:B,2,0)","v":"06:21:00"},"Namaz"]
[]
[null,null,"Günlük",{"$f":"TODAY()","v":"2023-03-20"}]
[null,null,{"$f":"NOW()","v":45005.781891203704},"bugün"]
[null,null,{"$f":"IFERROR(VLOOKUP(D6,İmsakiye!A:B,2,0)+1,0)","v":0},"Gün Satır"]
[null,null,{"$f":"IFERROR(INDIRECT(\"İmsakiye!E\"&C8),0)","v":"00:00:00"},"iftar"]
[null,null,{"$f":"IFERROR(INDIRECT(\"İmsakiye!D\"&C8),0)","v":"00:00:00"},"sahur"]
[null,null,{"$f":"IF(C7>C9,C9-C10,C7-C10)","v":"00:00:00"},"Tutulan Süre"]
[null,null,{"$f":"IF(C7>C9,0,C9-C7)","v":"00:00:00"},"Kalan Süre"]
[null,null,{"$f":"IF(C8=0,0,C8-1)","v":0},"Tutulan Gün"]
[null,null,{"$f":"29-C13","v":29},"Kalan Gün"]

{"sheet":"Vakitler","index":1,"n_rows":117,"n_cols":4,"rows_kept":117,"cut":false,"hidden":true,"merged":[]}
["İL","Tarih","Sahur","İftar"]
["ELBEYLİ","2023-03-23",45008.211111111108,45008.785416666666]
["ELBEYLİ","2023-03-24",45009.209722222222,45009.785416666666]
["ELBEYLİ","2023-03-25",45010.208333333336,45010.786111111112]
["ELBEYLİ","2023-03-26",45011.207638888889,45011.786805555559]
["ELBEYLİ","2023-03-27",45012.206250000003,45012.787499999999]
["ELBEYLİ","2023-03-28",45013.205555555556,45013.788194444445]
["ELBEYLİ","2023-03-29",45014.20416666667,45014.788888888892]
["ELBEYLİ","2023-03-30",45015.202777777777,45015.789583333331]
["ELBEYLİ","2023-03-31",45016.20208333333,45016.790277777778]
["ELBEYLİ","2023-04-01",45017.200694444444,45017.790277777778]
["ELBEYLİ","2023-04-02",45018.199305555558,45018.790972222225]
["ELBEYLİ","2023-04-03",45019.198611111111,45019.791666666664]
["ELBEYLİ","2023-04-04",45020.197222222225,45020.792361111111]
["ELBEYLİ","2023-04-05",45021.195833333331,45021.793055555558]
["ELBEYLİ","2023-04-06",45022.195138888892,45022.793749999997]
["ELBEYLİ","2023-04-07",45023.193749999999,45023.794444444444]
["ELBEYLİ","2023-04-08",45024.192361111112,45024.795138888891]
["ELBEYLİ","2023-04-09",45025.191666666666,45025.795138888891]
["ELBEYLİ","2023-04-10",45026.19027777778,45026.79583333333]
["ELBEYLİ","2023-04-11",45027.189583333333,45027.796527777777]
["ELBEYLİ","2023-04-12",45028.188194444447,45028.797222222223]
["ELBEYLİ","2023-04-13",45029.186805555553,45029.79791666667]
["ELBEYLİ","2023-04-14",45030.186111111114,45030.798611111109]
["ELBEYLİ","2023-04-15",45031.18472222222,45031.799305555556]
["ELBEYLİ","2023-04-16",45032.183333333334,45032.799305555556]
["ELBEYLİ","2023-04-17",45033.182638888888,45033.8]
["ELBEYLİ","2023-04-18",45034.181250000001,45034.800694444442]
["ELBEYLİ","2023-04-19",45035.179861111108,45035.801388888889]
["ELBEYLİ","2023-04-20",45036.179166666669,45036.802083333336]
["KİLİS","2023-03-23",45008.211805555555,45008.786111111112]
["KİLİS","2023-03-24",45009.210416666669,45009.786805555559]
["KİLİS","2023-03-25",45010.209722222222,45010.787499999999]
["KİLİS","2023-03-26",45011.208333333336,45011.788194444445]
["KİLİS","2023-03-27",45012.207638888889,45012.788888888892]
["KİLİS","2023-03-28",45013.206250000003,45013.788888888892]
["KİLİS","2023-03-29",45014.204861111109,45014.789583333331]
["KİLİS","2023-03-30",45015.20416666667,45015.790277777778]
["KİLİS","2023-03-31",45016.202777777777,45016.790972222225]
["KİLİS","2023-04-01",45017.201388888891,45017.791666666664]
["KİLİS","2023-04-02",45018.200694444444,45018.792361111111]
["KİLİS","2023-04-03",45019.199305555558,45019.793055555558]
["KİLİS","2023-04-04",45020.197916666664,45020.793749999997]
["KİLİS","2023-04-05",45021.197222222225,45021.793749999997]
["KİLİS","2023-04-06",45022.195833333331,45022.794444444444]
["KİLİS","2023-04-07",45023.194444444445,45023.795138888891]
["KİLİS","2023-04-08",45024.193749999999,45024.79583333333]
["KİLİS","2023-04-09",45025.192361111112,45025.796527777777]
["KİLİS","2023-04-10",45026.191666666666,45026.797222222223]
["KİLİS","2023-04-11",45027.19027777778,45027.79791666667]
["KİLİS","2023-04-12",45028.188888888886,45028.79791666667]
["KİLİS","2023-04-13",45029.188194444447,45029.798611111109]
["KİLİS","2023-04-14",45030.186805555553,45030.799305555556]
["KİLİS","2023-04-15",45031.185416666667,45031.8]
["KİLİS","2023-04-16",45032.18472222222,45032.800694444442]
["KİLİS","2023-04-17",45033.183333333334,45033.801388888889]
["KİLİS","2023-04-18",45034.181944444441,45034.802083333336]
["KİLİS","2023-04-19",45035.181250000001,45035.802777777775]
["KİLİS","2023-04-20",45036.179861111108,45036.802777777775]
["MUSABEYLİ","2023-03-23",45008.212500000001,45008.786805555559]
["MUSABEYLİ","2023-03-24",45009.211111111108,45009.787499999999]
["MUSABEYLİ","2023-03-25",45010.209722222222,45010.788194444445]
["MUSABEYLİ","2023-03-26",45011.209027777775,45011.788888888892]
["MUSABEYLİ","2023-03-27",45012.207638888889,45012.788888888892]
["MUSABEYLİ","2023-03-28",45013.206250000003,45013.789583333331]
["MUSABEYLİ","2023-03-29",45014.205555555556,45014.790277777778]
["MUSABEYLİ","2023-03-30",45015.20416666667,45015.790972222225]
["MUSABEYLİ","2023-03-31",45016.203472222223,45016.791666666664]
["MUSABEYLİ","2023-04-01",45017.20208333333,45017.792361111111]
["MUSABEYLİ","2023-04-02",45018.200694444444,45018.793055555558]
["MUSABEYLİ","2023-04-03",45019.199999999997,45019.793749999997]
["MUSABEYLİ","2023-04-04",45020.198611111111,45020.793749999997]
["MUSABEYLİ","2023-04-05",45021.197222222225,45021.794444444444]
["MUSABEYLİ","2023-04-06",45022.196527777778,45022.795138888891]
["MUSABEYLİ","2023-04-07",45023.195138888892,45023.79583333333]
["MUSABEYLİ","2023-04-08",45024.193749999999,45024.796527777777]
["MUSABEYLİ","2023-04-09",45025.193055555559,45025.797222222223]
["MUSABEYLİ","2023-04-10",45026.191666666666,45026.79791666667]
["MUSABEYLİ","2023-04-11",45027.19027777778,45027.798611111109]
["MUSABEYLİ","2023-04-12",45028.189583333333,45028.798611111109]
["MUSABEYLİ","2023-04-13",45029.188194444447,45029.799305555556]
["MUSABEYLİ","2023-04-14",45030.186805555553,45030.8]
["MUSABEYLİ","2023-04-15",45031.186111111114,45031.800694444442]
["MUSABEYLİ","2023-04-16",45032.18472222222,45032.801388888889]
["MUSABEYLİ","2023-04-17",45033.183333333334,45033.802083333336]
["MUSABEYLİ","2023-04-18",45034.182638888888,45034.802777777775]
["MUSABEYLİ","2023-04-19",45035.181250000001,45035.803472222222]
["MUSABEYLİ","2023-04-20",45036.179861111108,45036.803472222222]
["POLATELİ","2023-03-23",45008.211805555555,45008.786111111112]
["POLATELİ","2023-03-24",45009.210416666669,45009.786805555559]
["POLATELİ","2023-03-25",45010.209027777775,45010.787499999999]
["POLATELİ","2023-03-26",45011.208333333336,45011.788194444445]
["POLATELİ","2023-03-27",45012.206944444442,45012.788194444445]
["POLATELİ","2023-03-28",45013.206250000003,45013.788888888892]
["POLATELİ","2023-03-29",45014.204861111109,45014.789583333331]
["POLATELİ","2023-03-30",45015.203472222223,45015.790277777778]
["POLATELİ","2023-03-31",45016.202777777777,45016.790972222225]
["POLATELİ","2023-04-01",45017.201388888891,45017.791666666664]
["POLATELİ","2023-04-02",45018.2,45018.792361111111]
["POLATELİ","2023-04-03",45019.199305555558,45019.793055555558]
["POLATELİ","2023-04-04",45020.197916666664,45020.793055555558]
["POLATELİ","2023-04-05",45021.196527777778,45021.793749999997]
["POLATELİ","2023-04-06",45022.195833333331,45022.794444444444]
["POLATELİ","2023-04-07",45023.194444444445,45023.795138888891]
["POLATELİ","2023-04-08",45024.193055555559,45024.79583333333]
["POLATELİ","2023-04-09",45025.192361111112,45025.796527777777]
["POLATELİ","2023-04-10",45026.190972222219,45026.797222222223]
["POLATELİ","2023-04-11",45027.189583333333,45027.79791666667]
["POLATELİ","2023-04-12",45028.188888888886,45028.79791666667]
["POLATELİ","2023-04-13",45029.1875,45029.798611111109]
["POLATELİ","2023-04-14",45030.186111111114,45030.799305555556]
["POLATELİ","2023-04-15",45031.185416666667,45031.8]
["POLATELİ","2023-04-16",45032.184027777781,45032.800694444442]
["POLATELİ","2023-04-17",45033.183333333334,45033.801388888889]
["POLATELİ","2023-04-18",45034.181944444441,45034.802083333336]
["POLATELİ","2023-04-19",45035.180555555555,45035.802777777775]
["POLATELİ","2023-04-20",45036.179861111108,45036.802777777775]

{"sheet":"İmsakiye","index":2,"n_rows":30,"n_cols":17,"rows_kept":30,"cut":false,"hidden":false,"merged":[[28,15,29,19]]}
["TARİH","ORUÇLU GÜN","KALAN GÜN","SAHUR VAKTİ","İFTAR VAKTİ","İFTARA KALAN SÜRE"]
["2023-03-23",1,{"$f":"29-B2","v":28},{"$f":"INDIRECT(\"Vakitler!C\"&Sabit!C3)","v":45008.211805555555},{"$f":"INDIRECT(\"Vakitler!D\"&Sabit!C3)","v":45008.786111111112},{"$f":"IF(NOW()>E2,\"Allah Kabul Etsin... :)\",IF(D2>NOW(),\"\",E2-NOW()))","v":""}]
[{"$f":"A2+1","v":"2023-03-24"},2,27,{"$f":"INDIRECT(\"Vakitler!C\"&Sabit!$C$3+ROW(D1))","v":45009.210416666669},{"$f":"INDIRECT(\"Vakitler!D\"&Sabit!$C$3+ROW(E1))","v":45009.786805555559},{"$f":"IF(NOW()>E3,\"Allah Kabul Etsin... :)\",IF(D3>NOW(),\"\",E3-NOW()))","v":""}]
[{"$f":"A3+1","v":"2023-03-25"},3,26,{"$f":"INDIRECT(\"Vakitler!C\"&Sabit!$C$3+ROW(D2))","v":45010.209722222222},{"$f":"INDIRECT(\"Vakitler!D\"&Sabit!$C$3+ROW(E2))","v":45010.787499999999},""]
["2023-03-26",4,25,{"$f":"INDIRECT(\"Vakitler!C\"&Sabit!$C$3+ROW(D3))","v":45011.208333333336},{"$f":"INDIRECT(\"Vakitler!D\"&Sabit!$C$3+ROW(E3))","v":45011.788194444445},""]
["2023-03-27",5,24,{"$f":"INDIRECT(\"Vakitler!C\"&Sabit!$C$3+ROW(D4))","v":45012.207638888889},{"$f":"INDIRECT(\"Vakitler!D\"&Sabit!$C$3+ROW(E4))","v":45012.788888888892},""]
["2023-03-28",6,23,{"$f":"INDIRECT(\"Vakitler!C\"&Sabit!$C$3+ROW(D5))","v":45013.206250000003},{"$f":"INDIRECT(\"Vakitler!D\"&Sabit!$C$3+ROW(E5))","v":45013.788888888892},""]
["2023-03-29",7,22,{"$f":"INDIRECT(\"Vakitler!C\"&Sabit!$C$3+ROW(D6))","v":45014.204861111109},{"$f":"INDIRECT(\"Vakitler!D\"&Sabit!$C$3+ROW(E6))","v":45014.789583333331},""]
["2023-03-30",8,21,{"$f":"INDIRECT(\"Vakitler!C\"&Sabit!$C$3+ROW(D7))","v":45015.20416666667},{"$f":"INDIRECT(\"Vakitler!D\"&Sabit!$C$3+ROW(E7))","v":45015.790277777778},""]
["2023-03-31",9,20,{"$f":"INDIRECT(\"Vakitler!C\"&Sabit!$C$3+ROW(D8))","v":45016.202777777777},{"$f":"INDIRECT(\"Vakitler!D\"&Sabit!$C$3+ROW(E8))","v":45016.790972222225},""]
["2023-04-01",10,19,{"$f":"INDIRECT(\"Vakitler!C\"&Sabit!$C$3+ROW(D9))","v":45017.201388888891},{"$f":"INDIRECT(\"Vakitler!D\"&Sabit!$C$3+ROW(E9))","v":45017.791666666664},""]
["2023-04-02",11,18,{"$f":"INDIRECT(\"Vakitler!C\"&Sabit!$C$3+ROW(D10))","v":45018.200694444444},{"$f":"INDIRECT(\"Vakitler!D\"&Sabit!$C$3+ROW(E10))","v":45018.792361111111},""]
["2023-04-03",12,17,{"$f":"INDIRECT(\"Vakitler!C\"&Sabit!$C$3+ROW(D11))","v":45019.199305555558},{"$f":"INDIRECT(\"Vakitler!D\"&Sabit!$C$3+ROW(E11))","v":45019.793055555558},""]
["2023-04-04",13,16,{"$f":"INDIRECT(\"Vakitler!C\"&Sabit!$C$3+ROW(D12))","v":45020.197916666664},{"$f":"INDIRECT(\"Vakitler!D\"&Sabit!$C$3+ROW(E12))","v":45020.793749999997},""]
["2023-04-05",14,15,{"$f":"INDIRECT(\"Vakitler!C\"&Sabit!$C$3+ROW(D13))","v":45021.197222222225},{"$f":"INDIRECT(\"Vakitler!D\"&Sabit!$C$3+ROW(E13))","v":45021.793749999997},""]
["2023-04-06",15,14,{"$f":"INDIRECT(\"Vakitler!C\"&Sabit!$C$3+ROW(D14))","v":45022.195833333331},{"$f":"INDIRECT(\"Vakitler!D\"&Sabit!$C$3+ROW(E14))","v":45022.794444444444},""]
["2023-04-07",16,13,{"$f":"INDIRECT(\"Vakitler!C\"&Sabit!$C$3+ROW(D15))","v":45023.194444444445},{"$f":"INDIRECT(\"Vakitler!D\"&Sabit!$C$3+ROW(E15))","v":45023.795138888891},""]
["2023-04-08",17,12,{"$f":"INDIRECT(\"Vakitler!C\"&Sabit!$C$3+ROW(D16))","v":45024.193749999999},{"$f":"INDIRECT(\"Vakitler!D\"&Sabit!$C$3+ROW(E16))","v":45024.79583333333},""]
["2023-04-09",18,11,{"$f":"INDIRECT(\"Vakitler!C\"&Sabit!$C$3+ROW(D17))","v":45025.192361111112},{"$f":"INDIRECT(\"Vakitler!D\"&Sabit!$C$3+ROW(E17))","v":45025.796527777777},""]
["2023-04-10",19,10,{"$f":"INDIRECT(\"Vakitler!C\"&Sabit!$C$3+ROW(D18))","v":45026.191666666666},{"$f":"INDIRECT(\"Vakitler!D\"&Sabit!$C$3+ROW(E18))","v":45026.797222222223},""]
["2023-04-11",20,9,{"$f":"INDIRECT(\"Vakitler!C\"&Sabit!$C$3+ROW(D19))","v":45027.19027777778},{"$f":"INDIRECT(\"Vakitler!D\"&Sabit!$C$3+ROW(E19))","v":45027.79791666667},""]
["2023-04-12",21,8,{"$f":"INDIRECT(\"Vakitler!C\"&Sabit!$C$3+ROW(D20))","v":45028.188888888886},{"$f":"INDIRECT(\"Vakitler!D\"&Sabit!$C$3+ROW(E20))","v":45028.79791666667},"",null,null,null,null,null,null,null,null,null,null,{"$f":"Sabit!E2","v":"FİTRE BEDELİ: 70 TL"}]
["2023-04-13",22,7,{"$f":"INDIRECT(\"Vakitler!C\"&Sabit!$C$3+ROW(D21))","v":45029.188194444447},{"$f":"INDIRECT(\"Vakitler!D\"&Sabit!$C$3+ROW(E21))","v":45029.798611111109},""]
["2023-04-14",23,6,{"$f":"INDIRECT(\"Vakitler!C\"&Sabit!$C$3+ROW(D22))","v":45030.186805555553},{"$f":"INDIRECT(\"Vakitler!D\"&Sabit!$C$3+ROW(E22))","v":45030.799305555556},""]
["2023-04-15",24,5,{"$f":"INDIRECT(\"Vakitler!C\"&Sabit!$C$3+ROW(D23))","v":45031.185416666667},{"$f":"INDIRECT(\"Vakitler!D\"&Sabit!$C$3+ROW(E23))","v":45031.8},""]
["2023-04-16",25,4,{"$f":"INDIRECT(\"Vakitler!C\"&Sabit!$C$3+ROW(D24))","v":45032.18472222222},{"$f":"INDIRECT(\"Vakitler!D\"&Sabit!$C$3+ROW(E24))","v":45032.800694444442},""]
["2023-04-17",26,3,{"$f":"INDIRECT(\"Vakitler!C\"&Sabit!$C$3+ROW(D25))","v":45033.183333333334},{"$f":"INDIRECT(\"Vakitler!D\"&Sabit!$C$3+ROW(E25))","v":45033.801388888889},""]
["2023-04-18",27,2,{"$f":"INDIRECT(\"Vakitler!C\"&Sabit!$C$3+ROW(D26))","v":45034.181944444441},{"$f":"INDIRECT(\"Vakitler!D\"&Sabit!$C$3+ROW(E26))","v":45034.802083333336},""]
["2023-04-19",28,1,{"$f":"INDIRECT(\"Vakitler!C\"&Sabit!$C$3+ROW(D27))","v":45035.181250000001},{"$f":"INDIRECT(\"Vakitler!D\"&Sabit!$C$3+ROW(E27))","v":45035.802777777775},"",null,null,null,null,null,null,null,null,null,{"$f":"NOW()","v":"2023-03-20T18:45:55.400"}]
["2023-04-20",29,0,{"$f":"INDIRECT(\"Vakitler!C\"&Sabit!$C$3+ROW(D28))","v":45036.179861111108},{"$f":"INDIRECT(\"Vakitler!D\"&Sabit!$C$3+ROW(E28))","v":45036.802777777775},""]